BEGIN:VCALENDAR
VERSION:2.0
PRODID:-//ChamberMaster//Event Calendar 2.0//EN
METHOD:PUBLISH
X-PUBLISHED-TTL:P3D
REFRESH-INTERVAL:P3D
CALSCALE:GREGORIAN
BEGIN:VEVENT
DTSTART:20201202T190000Z
DTEND:20201206T210000Z
X-MICROSOFT-CDO-ALLDAYEVENT:FALSE
SUMMARY:Silent Auction & Bake Sale
DESCRIPTION:Support Options for Women- Menomonie by participating in our Online Auction and Bake Sale. The auction begins December 2\, and will be active until December 5\, 2020 at 12 pm. You can participate in the auction at 32AUCTIONS.COM/OPTIONSMENOMIE\n\n\n\nThe bake sale will be on December 6\, 2020 from 1:00 to 3:00 onsite at the Gin Mill\, 230 Main St. E\, Menomonie\, WI 54751. \n\n\n\nAll proceeds will help Options for Women- Menomonie continue serving women and families in our community. Your generosity is greatly appreciated!
X-ALT-DESC;FMTTYPE=text/html:Support Options for Women- Menomonie by participating in our Online Auction and Bake Sale. <strong>The auction begins December 2</strong>\, and will be active until December 5\, 2020 at 12 pm. You can participate in the auction at <a href="http://32auctions.com/optionsmenomonie">32AUCTIONS.COM/OPTIONSMENOMIE</a><br />\n<br />\n<strong>The bake sale will be on December 6\, 2020</strong> from 1:00 to 3:00 onsite at <strong>the Gin Mill\,</strong> 230 Main St. E\, Menomonie\, WI 54751.&nbsp\;<br />\n<br />\nAll proceeds will help Options for Women- Menomonie continue serving women and families in our community. Your generosity is greatly appreciated!
LOCATION:Auction is online at 32auctions.com/optionsmenomonie The bake sale is at The Gin Mill\, 230 Main St. E\, Menomonie\, WI 54751
UID:e.64.30742
SEQUENCE:3
DTSTAMP:20260424T055635Z
URL:https://menomonie-gzcms.preview.gochambermaster.com/events/details/silent-auction-bake-sale-30742
END:VEVENT

END:VCALENDAR
