BEGIN:VCALENDAR
VERSION:2.0
PRODID:-//ChamberMaster//Event Calendar 2.0//EN
METHOD:PUBLISH
X-PUBLISHED-TTL:P3D
REFRESH-INTERVAL:P3D
CALSCALE:GREGORIAN
BEGIN:VEVENT
DTSTART:20200509T140000Z
DTEND:20200509T190000Z
X-MICROSOFT-CDO-ALLDAYEVENT:FALSE
SUMMARY:Spring Low Cost Microchip Clinic
DESCRIPTION:Microchips for cats and dogs\, only $10 + tax per microchip. Engraved tags will also be available on site for $7.
X-ALT-DESC;FMTTYPE=text/html:Microchips for cats and dogs\, only $10 + tax per microchip. Engraved tags will also be available on site for $7.
LOCATION:Johnson Motors of Menomonie\, 1603 US-12\, Menomonie
UID:e.64.28219
SEQUENCE:3
DTSTAMP:20260424T225800Z
URL:https://menomonie-gzcms.preview.gochambermaster.com/events/details/spring-low-cost-microchip-clinic-28219
END:VEVENT

END:VCALENDAR
