BEGIN:VCALENDAR
VERSION:2.0
PRODID:-//ChamberMaster//Event Calendar 2.0//EN
METHOD:PUBLISH
X-PUBLISHED-TTL:P3D
REFRESH-INTERVAL:P3D
CALSCALE:GREGORIAN
BEGIN:VEVENT
DTSTART:20220810T160000Z
DTEND:20220810T164500Z
X-MICROSOFT-CDO-ALLDAYEVENT:FALSE
SUMMARY:StoryWalk Reboot
DESCRIPTION:Join us at Lakeside Park (just down the road from the library) on August 10th from 11-11:45am for our StoryWalk reboot. We rescheduled the Pint Size Polkas and they will be here to share "the happiest form of music on the face of the earth". So bring the kids\, the grandkids (and the neighbor kids too!) and let's polka! How much does it cost? It's FREE! Thanks to Health Dunn Right\, the Community Foundation of Dunn County\, Mayo Clinic Health System\, and the City of Menomonie for making this outdoor activity possible! *In case of bad weather\, this event will be held in the Menomonie Public Library meeting room. What is a StoryWalk? A StoryWalk  is a fun\, educational activity that places a children's story (literally a book taken apart) along a popular walking route in your community. What's not to love about spending time in NATURE while READING a book while getting EXERCISE? People of all ages will enjoy this meandering adventure!
X-ALT-DESC;FMTTYPE=text/html:Join us at Lakeside Park (just down the road from the library) on August 10th from 11-11:45am for our StoryWalk reboot. We rescheduled the Pint Size Polkas and they will be here to share &ldquo\;the happiest form of music on the face of the earth&rdquo\;. So bring the kids\, the grandkids (and the neighbor kids too!) and let&rsquo\;s polka! How much does it cost? It&rsquo\;s FREE! Thanks to Health Dunn Right\, the Community Foundation of Dunn County\, Mayo Clinic Health System\, and the City of Menomonie for making this outdoor activity possible! *In case of bad weather\, this event will be held in the Menomonie Public Library meeting room. What is a StoryWalk? A StoryWalk&reg\; is a fun\, educational activity that places a children&rsquo\;s story (literally a book taken apart) along a popular walking route in your community. What&rsquo\;s not to love about spending time in NATURE while READING a book while getting EXERCISE? People of all ages will enjoy this meandering adventure!
LOCATION:Lakeside Park 724-998 Wolske Bay Road Menomonie\, WI 54751
UID:e.64.33567
SEQUENCE:3
DTSTAMP:20260421T201937Z
URL:https://menomonie-gzcms.preview.gochambermaster.com/events/details/storywalk-reboot-33567
END:VEVENT

END:VCALENDAR
