BEGIN:VCALENDAR
VERSION:2.0
PRODID:-//ChamberMaster//Event Calendar 2.0//EN
METHOD:PUBLISH
X-PUBLISHED-TTL:P3D
REFRESH-INTERVAL:P3D
CALSCALE:GREGORIAN
BEGIN:VEVENT
DTSTART:20200426T193000Z
DTEND:20200426T210000Z
X-MICROSOFT-CDO-ALLDAYEVENT:FALSE
SUMMARY:The Menomonie Singers In Concert
DESCRIPTION:Continuing to celebrate its 30th anniversary\, The Menomonie Singers will present Mozart's Missa Brevis K194 and selections by Gjeilo\, Paulus\, Gibbs\, Rudoi\, Barnum\, Billings\, and Szymko\, conducted by Amy Vogt. Accompaniment by Beth Wacek\, and string quartet of local musicians.
X-ALT-DESC;FMTTYPE=text/html:Continuing to celebrate its 30th anniversary\, The Menomonie Singers will present Mozart&#39\;s Missa Brevis K194 and selections by Gjeilo\, Paulus\, Gibbs\, Rudoi\, Barnum\, Billings\, and Szymko\, conducted by Amy Vogt. Accompaniment by Beth Wacek\, and string quartet of local musicians.
LOCATION:Our Savior's Lutheran Church 910 9th St. E. Menomonie
UID:e.64.29399
SEQUENCE:3
DTSTAMP:20260425T002501Z
URL:https://menomonie-gzcms.preview.gochambermaster.com/events/details/the-menomonie-singers-in-concert-04-26-2020-29399
END:VEVENT

END:VCALENDAR
