BEGIN:VCALENDAR
VERSION:2.0
PRODID:-//ChamberMaster//Event Calendar 2.0//EN
METHOD:PUBLISH
X-PUBLISHED-TTL:P3D
REFRESH-INTERVAL:P3D
CALSCALE:GREGORIAN
BEGIN:VEVENT
DTSTART:20190428T190000Z
DTEND:20190428T210000Z
X-MICROSOFT-CDO-ALLDAYEVENT:FALSE
SUMMARY:The Menomonie Singers present the Easter Portion of Handel's Messiah
DESCRIPTION:The Menomonie Singers will present the Easter portion of Handel's Messiah. Conducted by Amy Vogt. Accompaniment on organ by Sean Vogt. Celebrate the season with this classic work!
X-ALT-DESC;FMTTYPE=text/html:The Menomonie Singers will present the Easter portion of Handel&#39\;s Messiah. Conducted by Amy Vogt. Accompaniment on organ by Sean Vogt. Celebrate the season with this classic work!
LOCATION:Our Savior's Lutheran\, Menomonie
UID:e.64.26636
SEQUENCE:3
DTSTAMP:20260426T011652Z
URL:https://menomonie-gzcms.preview.gochambermaster.com/events/details/the-menomonie-singers-present-the-easter-portion-of-handel-s-messiah-26636
END:VEVENT

END:VCALENDAR
