BEGIN:VCALENDAR
VERSION:2.0
PRODID:-//ChamberMaster//Event Calendar 2.0//EN
METHOD:PUBLISH
X-PUBLISHED-TTL:P3D
REFRESH-INTERVAL:P3D
CALSCALE:GREGORIAN
BEGIN:VEVENT
DTSTART:20220413T220000Z
DTEND:20220413T230000Z
X-MICROSOFT-CDO-ALLDAYEVENT:FALSE
SUMMARY:The story of your life: Writing your forgotten past
DESCRIPTION:B.J. Hollars\, Associate Professor of English at UW-Eau Claire and author of several books\, including "Go West Young Man: A Father and Son Rediscover America on the Oregon Train\," will lead a series of generative writing prompts and creative writing workshop sure to spur your memory\, bring your past to the present\, and help you write your life's story. Please brings pens and paper or your laptops.
X-ALT-DESC;FMTTYPE=text/html:B.J. Hollars\, Associate Professor of English at UW-Eau Claire and author of several books\, including &quot\;Go West Young Man: A Father and Son Rediscover America on the Oregon Train\,&quot\; will lead a series of generative writing prompts and creative writing workshop sure to spur your memory\, bring your past to the present\, and help you write your life&#39\;s story. Please brings pens and paper or your laptops.
LOCATION:UW-Stout\, Harvey Hall Theatre 302 10th Avenue East
UID:e.64.33411
SEQUENCE:3
DTSTAMP:20260422T080030Z
URL:https://menomonie-gzcms.preview.gochambermaster.com/events/details/the-story-of-your-life-writing-your-forgotten-past-33411
END:VEVENT

END:VCALENDAR
