BEGIN:VCALENDAR
VERSION:2.0
PRODID:-//ChamberMaster//Event Calendar 2.0//EN
METHOD:PUBLISH
X-PUBLISHED-TTL:P3D
REFRESH-INTERVAL:P3D
CALSCALE:GREGORIAN
BEGIN:VEVENT
DTSTART:20210203T010000Z
DTEND:20210203T020000Z
X-MICROSOFT-CDO-ALLDAYEVENT:FALSE
SUMMARY:The Top 10 Mistakes that Break Up a Farm or Family Businesses with Jolene Brown
DESCRIPTION:We can prevent many daily aggravations and family business catastrophes if we learn from the mistakes of others. Join me for an eye-opening fun filled presentation that will highlight the mistakes families make that break up their business.\n\n\n\nNo products will be sold. Jolene Brown is not affiliated with or endorsed by Thrivent. The views expressed in this presentation by Jolene Brown are her own and not necessarily those of Thrivent of its affiliates. The material presented has been obtained from sources we believe to be reliable and is current.
X-ALT-DESC;FMTTYPE=text/html:We can prevent many daily aggravations and family business catastrophes if we learn from the mistakes of others. Join me for an eye-opening fun filled presentation that will highlight the mistakes families make that break up their business.<br />\n<br />\nNo products will be sold. Jolene Brown is not affiliated with or endorsed by Thrivent. The views expressed in this presentation by Jolene Brown are her own and not necessarily those of Thrivent of its affiliates. The material presented has been obtained from sources we believe to be reliable and is current.\n<p style="box-sizing: border-box\; margin: 0px 0px 10px\; font-family: Helvetica\, &quot\;sans serif&quot\;\, Arial\; font-size: 14px\; background-color: rgb(238\, 238\, 238)\;">&nbsp\;</p>\n
LOCATION:
UID:e.64.30802
SEQUENCE:3
DTSTAMP:20260424T020058Z
URL:https://menomonie-gzcms.preview.gochambermaster.com/events/details/the-top-10-mistakes-that-break-up-a-farm-or-family-businesses-with-jolene-brown-30802
END:VEVENT

END:VCALENDAR
