BEGIN:VCALENDAR
VERSION:2.0
PRODID:-//ChamberMaster//Event Calendar 2.0//EN
METHOD:PUBLISH
X-PUBLISHED-TTL:P3D
REFRESH-INTERVAL:P3D
CALSCALE:GREGORIAN
BEGIN:VEVENT
DTSTART:20190608T150000Z
DTEND:20190608T180000Z
X-MICROSOFT-CDO-ALLDAYEVENT:FALSE
SUMMARY:Touch A Truck
DESCRIPTION:Touch a Truck is a Family-Friendly\, Hands on Experience that allows Children the Opportunity to meet people who Build\, Protect and Serve our Community\, as well as Explore the Trucks\, Machinery and Vehicles that they use in their say-to-day jobs. Most Children are not given the Opportunities to engage with our Community Leaders and their Vehicles in a Fun way\, yet Touch A Truck offersvthis experience ina Safe and Secure Enviroment. Quiet Hour is from 10a-11a so you can enjoy the Vehicles without the Noise of Horns\, Sirens\, Bullhorns or PA Systems. Fun for the Young And Young at Heart!
X-ALT-DESC;FMTTYPE=text/html:Touch a Truck is a Family-Friendly\, Hands on Experience that allows Children the Opportunity to meet people who Build\, Protect and Serve our Community\, as well as Explore the Trucks\, Machinery and Vehicles that they use in their say-to-day jobs. Most Children are not given the Opportunities to engage with our Community Leaders and their Vehicles in a Fun way\, yet Touch A Truck offersvthis experience ina Safe and Secure Enviroment. Quiet Hour is from 10a-11a so you can enjoy the Vehicles without the Noise of Horns\, Sirens\, Bullhorns or PA Systems. Fun for the Young And Young at Heart!
LOCATION:Jesses Jym E4699 430th Ave Menomonie\, WI 54751
UID:e.64.26761
SEQUENCE:3
DTSTAMP:20260425T195427Z
URL:https://menomonie-gzcms.preview.gochambermaster.com/events/details/touch-a-truck-26761
END:VEVENT

END:VCALENDAR
