BEGIN:VCALENDAR
VERSION:2.0
PRODID:-//ChamberMaster//Event Calendar 2.0//EN
METHOD:PUBLISH
X-PUBLISHED-TTL:P3D
REFRESH-INTERVAL:P3D
CALSCALE:GREGORIAN
BEGIN:VEVENT
DTSTART:20190611T190000Z
DTEND:20190611T210000Z
X-MICROSOFT-CDO-ALLDAYEVENT:FALSE
SUMMARY:Trail Clean Up
DESCRIPTION:Join the Menomonie Chamber for a few hours at the Red Cedar Trail Depot for some trail clean up. This is a great opportunity to give back to this community!
X-ALT-DESC;FMTTYPE=text/html:Join the Menomonie Chamber for a few hours at the Red Cedar Trail Depot for some trail clean up. This is a great opportunity to give back to this community!
LOCATION:Red Cedar State Trail Depot
UID:e.64.26764
SEQUENCE:3
DTSTAMP:20260425T234454Z
URL:https://menomonie-gzcms.preview.gochambermaster.com/events/details/trail-clean-up-06-11-2019-26764
END:VEVENT

END:VCALENDAR
