BEGIN:VCALENDAR
VERSION:2.0
PRODID:-//ChamberMaster//Event Calendar 2.0//EN
METHOD:PUBLISH
X-PUBLISHED-TTL:P3D
REFRESH-INTERVAL:P3D
CALSCALE:GREGORIAN
BEGIN:VEVENT
DTSTART:20231028T180000Z
DTEND:20231028T200000Z
X-MICROSOFT-CDO-ALLDAYEVENT:FALSE
SUMMARY:Treats on the Trail
DESCRIPTION:Join us at the Lions Club Game Park in Wakanda Park to enjoy the beautiful fall weather\, hike the nature trail\, and gather Halloween treats along the way. Costumes highly encouraged!  The entrance to Treats on the Trail will begin by the pavilion near the bison. ?\n\n \n\nIf the weather is inclement\, the event will be moved to the Rassbach Museum nearby.\n\n \n\nPresented in cooperation with the Menomonie Lions Club. Candy sponsored by Explore Menomonie
X-ALT-DESC;FMTTYPE=text/html:<div>Join us at the Lions Club Game Park in Wakanda Park to enjoy the beautiful fall weather\, hike the nature trail\, and gather Halloween treats along the way. Costumes highly encouraged!&nbsp\; The entrance to Treats on the Trail will begin by the pavilion near the bison. ?</div>\n\n<div>&nbsp\;</div>\n\n<div>If the weather is inclement\, the event will be moved to the Rassbach Museum nearby.<br />\n&nbsp\;</div>\n\n<div>Presented in cooperation with the Menomonie Lions Club. Candy sponsored by Explore Menomonie&nbsp\;</div>\n
LOCATION:Lion's Club Game Park 1798 Game Park Rd Menomonie\, WI 54751
UID:e.64.34897
SEQUENCE:3
DTSTAMP:20260419T180616Z
URL:https://menomonie-gzcms.preview.gochambermaster.com/events/details/treats-on-the-trail-10-28-2023-34897
END:VEVENT

END:VCALENDAR
