BEGIN:VCALENDAR
VERSION:2.0
PRODID:-//ChamberMaster//Event Calendar 2.0//EN
METHOD:PUBLISH
X-PUBLISHED-TTL:P3D
REFRESH-INTERVAL:P3D
CALSCALE:GREGORIAN
BEGIN:VEVENT
DTSTART:20191026T180000Z
DTEND:20191026T200000Z
X-MICROSOFT-CDO-ALLDAYEVENT:FALSE
SUMMARY:Treats on the Trail
DESCRIPTION:Join the Dunn County Historical Society at the Lions Club Game Park Trail in Wakanda Park to enjoy the beautiful fall weather and collect Halloween treats along the way! Walk the nature trail\, collect candy\, show off your costume\, and get a pumpkin to take home! Children must be accompanied by an adult throughout the afternoon. Rain site is the nearby Rassbach Museum.
X-ALT-DESC;FMTTYPE=text/html:Join the Dunn County Historical Society at the Lions Club Game Park Trail in Wakanda Park to enjoy the beautiful fall weather and collect Halloween treats along the way! Walk the nature trail\, collect candy\, show off your costume\, and get a pumpkin to take home! Children must be accompanied by an adult throughout the afternoon. Rain site is the nearby Rassbach Museum.
LOCATION:Lions Club Game Park Trail Game Park Road in Wakanda Park\, Menomonie
UID:e.64.26833
SEQUENCE:3
DTSTAMP:20260425T171932Z
URL:https://menomonie-gzcms.preview.gochambermaster.com/events/details/treats-on-the-trail-26833
END:VEVENT

END:VCALENDAR
