BEGIN:VCALENDAR
VERSION:2.0
PRODID:-//ChamberMaster//Event Calendar 2.0//EN
METHOD:PUBLISH
X-PUBLISHED-TTL:P3D
REFRESH-INTERVAL:P3D
CALSCALE:GREGORIAN
BEGIN:VEVENT
DTSTART:20231215T010000Z
DTEND:20231215T030000Z
X-MICROSOFT-CDO-ALLDAYEVENT:FALSE
SUMMARY:Trivia Night in the Spirit Room
DESCRIPTION:We're back for another night of Trivia! Grab a festive cocktail and some of your smarter friends (although the funny ones are invited\, too) for this battle of the brains and wits for the chance to win prizes!
X-ALT-DESC;FMTTYPE=text/html:<span style="color:rgb(5\, 5\, 5)\; font-family:segoe ui historic\,segoe ui\,helvetica\,arial\,sans-serif\; font-size:15px">We&#39\;re back for another night of Trivia! Grab a festive cocktail and some of your smarter friends (although the funny ones are invited\, too) for this battle of the brains and wits for the chance to win prizes!</span>
LOCATION:The Spirit Room at the Mabel Tainter 205 Main Street E Menomonie\, WI 54751
UID:e.64.35482
SEQUENCE:3
DTSTAMP:20260419T193651Z
URL:https://menomonie-gzcms.preview.gochambermaster.com/events/details/trivia-night-in-the-spirit-room-35482
END:VEVENT

END:VCALENDAR
