BEGIN:VCALENDAR
VERSION:2.0
PRODID:-//ChamberMaster//Event Calendar 2.0//EN
METHOD:PUBLISH
X-PUBLISHED-TTL:P3D
REFRESH-INTERVAL:P3D
CALSCALE:GREGORIAN
BEGIN:VEVENT
DTSTART:20231027T230000Z
DTEND:20231028T030000Z
X-MICROSOFT-CDO-ALLDAYEVENT:FALSE
SUMMARY:Twisted Tales of Horror Haunted Trail
DESCRIPTION:Love a great fright?\n\nCheck out our Haunted Trail!
X-ALT-DESC;FMTTYPE=text/html:<h2><strong>Love a great fright?<br />\nCheck out our Haunted Trail!</strong></h2>\n
LOCATION:Govin's Farm N6134 670th Street Menomonie\, WI 54751
UID:e.64.34905
SEQUENCE:3
DTSTAMP:20260420T002853Z
URL:https://menomonie-gzcms.preview.gochambermaster.com/events/details/twisted-tales-of-horror-haunted-trail-10-27-2023-34905
END:VEVENT

END:VCALENDAR
