BEGIN:VCALENDAR
VERSION:2.0
PRODID:-//ChamberMaster//Event Calendar 2.0//EN
METHOD:PUBLISH
X-PUBLISHED-TTL:P3D
REFRESH-INTERVAL:P3D
CALSCALE:GREGORIAN
BEGIN:VEVENT
DTSTART;VALUE=DATE:20191025
DTEND;VALUE=DATE:20191028
TRANSP:TRANSPARENT
X-MICROSOFT-CDO-ALLDAYEVENT:TRUE
SUMMARY:UW-Stout Fall Family Weekend
DESCRIPTION:Fam Jam is UW-Stout's Fall Family Weekend for UW-Stout students and their families. Downtown and Menomonie businesses will offer specials to those using the code FAMJAM. Menomonie's time to shine and welcome visitors to our area!
X-ALT-DESC;FMTTYPE=text/html:Fam Jam is UW-Stout&#39\;s Fall Family Weekend for UW-Stout students and their families. Downtown and Menomonie businesses will offer specials to those using the code FAMJAM. Menomonie&#39\;s time to shine and welcome visitors to our area!
LOCATION:UW-Stout Campus and Menomonie
UID:e.64.26939
SEQUENCE:3
DTSTAMP:20260425T153922Z
URL:https://menomonie-gzcms.preview.gochambermaster.com/events/details/uw-stout-fall-family-weekend-26939
END:VEVENT

END:VCALENDAR
