BEGIN:VCALENDAR
VERSION:2.0
PRODID:-//ChamberMaster//Event Calendar 2.0//EN
METHOD:PUBLISH
X-PUBLISHED-TTL:P3D
REFRESH-INTERVAL:P3D
CALSCALE:GREGORIAN
BEGIN:VEVENT
DTSTART:20191112T230000Z
DTEND:20191113T003000Z
X-MICROSOFT-CDO-ALLDAYEVENT:FALSE
SUMMARY:Viewing Party
DESCRIPTION:Join Us! We are hosting a viewing party to celebrate 60 years of service in the Chippewa Valley. We will have food\, drinks and a short video viewing that highlights the past 60 years of service. Location: Brewing Projekt - Eau Claire
X-ALT-DESC;FMTTYPE=text/html:Join Us! We are hosting a viewing party to celebrate 60 years of service in the Chippewa Valley. We will have food\, drinks and a short video viewing that highlights the past 60 years of service. Location: Brewing Projekt - Eau Claire
LOCATION:Brewing Projekt 1807 N. Oxford Ave. Eau Claire\, WI 54703
UID:e.64.27181
SEQUENCE:3
DTSTAMP:20260425T142328Z
URL:https://menomonie-gzcms.preview.gochambermaster.com/events/details/viewing-party-27181
END:VEVENT

END:VCALENDAR
