BEGIN:VCALENDAR
VERSION:2.0
PRODID:-//ChamberMaster//Event Calendar 2.0//EN
METHOD:PUBLISH
X-PUBLISHED-TTL:P3D
REFRESH-INTERVAL:P3D
CALSCALE:GREGORIAN
BEGIN:VEVENT
DTSTART;VALUE=DATE:20200512
DTEND;VALUE=DATE:20200601
TRANSP:TRANSPARENT
X-MICROSOFT-CDO-ALLDAYEVENT:TRUE
SUMMARY:Virtual Walk 4 Life 2020 - The BIG MOVE! Now extended!
DESCRIPTION:Options for Women - Menomonie recently moved to our new location downtown\, but because of Covid-19\, we had to postpone our grand opening and open house. In the meantime\, we invite you to join us in our BIG MOVE Virtual 4k Walk for Life - walk\, run or bike to support essential services we provide to pregnant women and their families.\n\nHERE'S HOW IT WORKS:\n\n1) register online April 24 - May 31 using this link https://www.eventbrite.com/e/virtual-walk-4-life-2020-the-big-move-tickets-103236033756\n\n2) pick up your t-shirt curbside (all safer-at-home protocols will be followed) there is a $5 fee if you prefer that we mail your T-shirt to your home.\n\n3) Be active - move! Following social distancing and other safer at home protocols\, walk\, run\, bike - whatever MOVES YOU! (Suggested distance 4k - 2.5 miles)\n\n4) Post a photo of yourself moving in your Options t-shirt to Facebook or Instagram using the hashtag #movingforoptions.\n\nKids can design their own t-shirts and one winner will be chosen from the photos posted to receive a prize.
X-ALT-DESC;FMTTYPE=text/html:<p>Options for Women - Menomonie recently moved to our new location downtown\, but because of Covid-19\, we had to postpone our grand opening and open house. In the meantime\, we invite you to join us in our BIG MOVE Virtual 4k Walk for Life - walk\, run or bike to support essential services we provide to pregnant women and their families.</p>\n\n<p>HERE&#39\;S HOW IT WORKS:</p>\n\n<p>1) register online April 24 - May 31 using this link&nbsp\;<a href="https://www.eventbrite.com/e/virtual-walk-4-life-2020-the-big-move-tickets-103236033756">https://www.eventbrite.com/e/virtual-walk-4-life-2020-the-big-move-tickets-103236033756</a></p>\n\n<p>2) pick up your t-shirt curbside (all safer-at-home protocols will be followed) there is a $5 fee if you prefer that we mail your T-shirt to your home.</p>\n\n<p>3) Be active - move! Following social distancing and other safer at home protocols\, walk\, run\, bike - whatever MOVES YOU! (Suggested distance 4k - 2.5 miles)</p>\n\n<p>4) Post a photo of yourself moving in your Options t-shirt to Facebook or Instagram using the hashtag #movingforoptions.</p>\n\n<p>Kids can design their own t-shirts and one winner will be chosen from the photos posted to receive a prize.&nbsp\;</p>\n
LOCATION:Virtual
UID:e.64.29442
SEQUENCE:3
DTSTAMP:20260424T225959Z
URL:https://menomonie-gzcms.preview.gochambermaster.com/events/details/virtual-walk-4-life-2020-the-big-move-29442
END:VEVENT

END:VCALENDAR
