BEGIN:VCALENDAR
VERSION:2.0
PRODID:-//ChamberMaster//Event Calendar 2.0//EN
METHOD:PUBLISH
X-PUBLISHED-TTL:P3D
REFRESH-INTERVAL:P3D
CALSCALE:GREGORIAN
BEGIN:VEVENT
DTSTART:20190624T133000Z
DTEND:20190628T213000Z
X-MICROSOFT-CDO-ALLDAYEVENT:FALSE
SUMMARY:WiFAB Retreat West - June 24-28\, 2019
DESCRIPTION:A retreat for educators\, innovators and makers. Get inspired!   Develop fab lab design curricula.   Understand how a fab lab can be used to support multi-disciplinary learning.   Receive project kits to take back to your classroom.   Understand how simple problems can teach age-appropriate STEAM concepts and skills.   Explore the iterative nature of design: brainstorming\, drawing\, modeling\, testing\, prototyping.   Develop a network of fab lab teachers through multiple social functions during the week.
X-ALT-DESC;FMTTYPE=text/html:A retreat for educators\, innovators and makers. Get inspired! &bull\; Develop fab lab design curricula. &bull\; Understand how a fab lab can be used to support multi-disciplinary learning. &bull\; Receive project kits to take back to your classroom. &bull\; Understand how simple problems can teach age-appropriate STEAM concepts and skills. &bull\; Explore the iterative nature of design: brainstorming\, drawing\, modeling\, testing\, prototyping. &bull\; Develop a network of fab lab teachers through multiple social functions during the week.
LOCATION:University of Wisconsin-Stout Fab Lab - 132 Applied Arts 415 13th Avenue East Menomonie\, WI 54751
UID:e.64.26703
SEQUENCE:3
DTSTAMP:20260425T195859Z
URL:https://menomonie-gzcms.preview.gochambermaster.com/events/details/wifab-retreat-west-june-24-28-2019-26703
END:VEVENT

END:VCALENDAR
