BEGIN:VCALENDAR
VERSION:2.0
PRODID:-//ChamberMaster//Event Calendar 2.0//EN
METHOD:PUBLISH
X-PUBLISHED-TTL:P3D
REFRESH-INTERVAL:P3D
CALSCALE:GREGORIAN
BEGIN:VEVENT
DTSTART:20210628T130000Z
DTEND:20210630T220000Z
X-MICROSOFT-CDO-ALLDAYEVENT:FALSE
SUMMARY:WiFAB Train
DESCRIPTION:Now that you have fab lab equipment\, what do you do with it?   Develop a fab lab curriculum that meets DPI standards.   Understand how a fab lab is used to foster multi-disciplinary learning.   Use simple problems to teach age-appropriate STEAM concepts.   Consider your fab lab setup\, training\, and operation.   Challenge students to identify the problem\, imagine solutions\, weigh ideas\, prototype\, and test.   Hear how your fab lab can engage with industry and community members.   Get a pre-workshop visit to understand your needs AND post-workshop support!
X-ALT-DESC;FMTTYPE=text/html:Now that you have fab lab equipment\, what do you do with it? &bull\; Develop a fab lab curriculum that meets DPI standards. &bull\; Understand how a fab lab is used to foster multi-disciplinary learning. &bull\; Use simple problems to teach age-appropriate STEAM concepts. &bull\; Consider your fab lab setup\, training\, and operation. &bull\; Challenge students to identify the problem\, imagine solutions\, weigh ideas\, prototype\, and test. &bull\; Hear how your fab lab can engage with industry and community members. &bull\; Get a pre-workshop visit to understand your needs AND post-workshop support!
LOCATION:UW-St0ut Campus
UID:e.64.32184
SEQUENCE:3
DTSTAMP:20260423T170821Z
URL:https://menomonie-gzcms.preview.gochambermaster.com/events/details/wifab-train-32184
END:VEVENT

END:VCALENDAR
