BEGIN:VCALENDAR
VERSION:2.0
PRODID:-//ChamberMaster//Event Calendar 2.0//EN
METHOD:PUBLISH
X-PUBLISHED-TTL:P3D
REFRESH-INTERVAL:P3D
CALSCALE:GREGORIAN
BEGIN:VEVENT
DTSTART:20190622T220000Z
DTEND:20190623T013000Z
X-MICROSOFT-CDO-ALLDAYEVENT:FALSE
SUMMARY:Wine Walk
DESCRIPTION:The Details: When: Saturday\, June 22nd\, 2019 from 5-8:30pm\n\n\n\nWhere: Downtown Menomonie\n\n\n\nLocations involved: 503 Broadway\, Anshus Jewelers\, Artysta Boutique\, Bookends on Main\, Crimson Skies\, Estilo\, Grey Barn\, La dee dah\, Mike's Art and Design Supply and Mood Boutique.\n\n\n\nWhat comes with your ticket: Passport that features a map of all businesses participating. Passport will include exclusive dinner specials to eateries in the downtown. A "Wine Walk" glass (plastic) to use during the event and is yours to keep. Each location will have 3 samples for attendees to enjoy\, some will offer appetizers. Your passports will include dinner specials to eateries throughout the downtown.\n\n\n\nDesignated Drivers are free.
X-ALT-DESC;FMTTYPE=text/html:The Details: When: Saturday\, June 22nd\, 2019 from 5-8:30pm<br />\n<br />\nWhere: Downtown Menomonie<br />\n<br />\nLocations involved: 503 Broadway\, Anshus Jewelers\, Artysta Boutique\, Bookends on Main\, Crimson Skies\, Estilo\, Grey Barn\, La dee dah\, Mike&#39\;s Art and Design Supply and Mood Boutique.<br />\n<br />\nWhat comes with your ticket: Passport that features a map of all businesses participating. Passport will include exclusive dinner specials to eateries in the downtown. A &quot\;Wine Walk&quot\; glass (plastic) to use during the event and is yours to keep. Each location will have 3 samples for attendees to enjoy\, some will offer appetizers. Your passports will include dinner specials to eateries throughout the downtown.<br />\n<br />\nDesignated Drivers are free.
LOCATION:Downtown Menomonie
UID:e.64.26743
SEQUENCE:3
DTSTAMP:20260425T195428Z
URL:https://menomonie-gzcms.preview.gochambermaster.com/events/details/wine-walk-26743
END:VEVENT

END:VCALENDAR
