BEGIN:VCALENDAR
VERSION:2.0
PRODID:-//ChamberMaster//Event Calendar 2.0//EN
METHOD:PUBLISH
X-PUBLISHED-TTL:P3D
REFRESH-INTERVAL:P3D
CALSCALE:GREGORIAN
BEGIN:VEVENT
DTSTART:20221208T220000Z
DTEND:20221209T020000Z
X-MICROSOFT-CDO-ALLDAYEVENT:FALSE
SUMMARY:Winter Daze Parade
DESCRIPTION:Looking to make memories with a unique holiday event experience? Join us for the 18th annual WinterDaze event in downtown Menomonie on Thursday\, December 8th. From 4:00 to 8:00 p.m.\, have an opportunity to meet Santa and Mrs. Clause\, ride hay wagon\, and warm up with some free Swiss Miss Hot Chocolate. At 6:30 p.m. a festive holiday parade begins through downtown Menomonie. Immediately following the parade\, a large winter fireworks show will be held over Lake Menomin.
X-ALT-DESC;FMTTYPE=text/html:Looking to make memories with a unique holiday event experience? Join us for the 18th annual WinterDaze event in downtown Menomonie on Thursday\, December 8th. From 4:00 to 8:00 p.m.\, have an opportunity to meet Santa and Mrs. Clause\, ride hay wagon\, and warm up with some free Swiss Miss Hot Chocolate. At 6:30 p.m. a festive holiday parade begins through downtown Menomonie. Immediately following the parade\, a large winter fireworks show will be held over Lake Menomin.
LOCATION:Downtown Menomonie
UID:e.64.34657
SEQUENCE:3
DTSTAMP:20260421T124657Z
URL:https://menomonie-gzcms.preview.gochambermaster.com/events/details/winter-daze-parade-34657
END:VEVENT

END:VCALENDAR
