BEGIN:VCALENDAR
VERSION:2.0
PRODID:-//ChamberMaster//Event Calendar 2.0//EN
METHOD:PUBLISH
X-PUBLISHED-TTL:P3D
REFRESH-INTERVAL:P3D
CALSCALE:GREGORIAN
BEGIN:VEVENT
DTSTART:20200219T010000Z
DTEND:20200219T024500Z
X-MICROSOFT-CDO-ALLDAYEVENT:FALSE
SUMMARY:Winter Film Series-Joker
DESCRIPTION:Free movie night at the Library. In Gotham City\, mentally troubled comedian Arthur Fleck is disregarded and mistreated by society. He then embarks on a downward spiral of revolution and bloody crime. This path brings him face-to-face with his alter-ego: the Joker. Director: Todd Phillips Writers: Todd Phillips\, Scott Silver | Stars: Joaquin Phoenix\, Robert De Niro\, Zazie Beetz Rated R
X-ALT-DESC;FMTTYPE=text/html:Free movie night at the Library. In Gotham City\, mentally troubled comedian Arthur Fleck is disregarded and mistreated by society. He then embarks on a downward spiral of revolution and bloody crime. This path brings him face-to-face with his alter-ego: the Joker. Director: Todd Phillips Writers: Todd Phillips\, Scott Silver | Stars: Joaquin Phoenix\, Robert De Niro\, Zazie Beetz Rated R
LOCATION:Menomonie Public Library
UID:e.64.29358
SEQUENCE:3
DTSTAMP:20260425T040711Z
URL:https://menomonie-gzcms.preview.gochambermaster.com/events/details/winter-film-series-joker-29358
END:VEVENT

END:VCALENDAR
