BEGIN:VCALENDAR
VERSION:2.0
PRODID:-//ChamberMaster//Event Calendar 2.0//EN
METHOD:PUBLISH
X-PUBLISHED-TTL:P3D
REFRESH-INTERVAL:P3D
CALSCALE:GREGORIAN
BEGIN:VEVENT
DTSTART:20211202T150000Z
DTEND:20211202T180000Z
X-MICROSOFT-CDO-ALLDAYEVENT:FALSE
SUMMARY:Working from Home: What Privacy Issues Arise in our Remote Workspaces?
DESCRIPTION:The pandemic of 2020 forced nearly all of us to work from home. We had to rapidly shift to creating a homework space for our jobs or our educations or both. The focus was on ensuring our work got done\, but what about the ethics of doing all of this from home? How responsible are we for the security and privacy of data when we work or study from home? Join us for a panel discussion about remote work environments\, cybersecurity and privacy\, and the ethics of the home office.
X-ALT-DESC;FMTTYPE=text/html:The pandemic of 2020 forced nearly all of us to work from home. We had to rapidly shift to creating a homework space for our jobs or our educations or both. The focus was on ensuring our work got done\, but what about the ethics of doing all of this from home? How responsible are we for the security and privacy of data when we work or study from home? Join us for a panel discussion about remote work environments\, cybersecurity and privacy\, and the ethics of the home office.
LOCATION:Online via Zoom
UID:e.64.33222
SEQUENCE:3
DTSTAMP:20260422T232155Z
URL:https://menomonie-gzcms.preview.gochambermaster.com/events/details/working-from-home-what-privacy-issues-arise-in-our-remote-workspaces-33222
END:VEVENT

END:VCALENDAR
