BEGIN:VCALENDAR
VERSION:2.0
PRODID:-//ChamberMaster//Event Calendar 2.0//EN
METHOD:PUBLISH
X-PUBLISHED-TTL:P3D
REFRESH-INTERVAL:P3D
CALSCALE:GREGORIAN
BEGIN:VEVENT
DTSTART:20200813T223000Z
DTEND:20200814T003000Z
X-MICROSOFT-CDO-ALLDAYEVENT:FALSE
SUMMARY:Young Professionals Gather and Games
DESCRIPTION:Gather with the Young Professionals of the Menomonie Area for networking and games.  Please note that food and beverages purchased will be at your own expense.
X-ALT-DESC;FMTTYPE=text/html:Gather with the Young Professionals of the Menomonie Area for networking and games.&nbsp\; Please note that food and beverages purchased will be at your own expense.
LOCATION:Jake's Supper Club E5690 County Rd D Menomonie\, WI 54751
UID:e.64.29402
SEQUENCE:3
DTSTAMP:20260424T221638Z
URL:https://menomonie-gzcms.preview.gochambermaster.com/events/details/young-professionals-gather-and-games-29402
END:VEVENT

END:VCALENDAR
